BEGIN:VCALENDAR
VERSION:2.0
PRODID:-//singendelandschaft - ECPv5.14.1//NONSGML v1.0//EN
CALSCALE:GREGORIAN
METHOD:PUBLISH
X-WR-CALNAME:singendelandschaft
X-ORIGINAL-URL:http://singendelandschaft.de
X-WR-CALDESC:Veranstaltungen für singendelandschaft
BEGIN:VTIMEZONE
TZID:Europe/Berlin
BEGIN:DAYLIGHT
TZOFFSETFROM:+0100
TZOFFSETTO:+0200
TZNAME:CEST
DTSTART:20190331T010000
END:DAYLIGHT
BEGIN:STANDARD
TZOFFSETFROM:+0200
TZOFFSETTO:+0100
TZNAME:CET
DTSTART:20191027T010000
END:STANDARD
END:VTIMEZONE
BEGIN:VEVENT
DTSTART;TZID=Europe/Berlin:20190330T130000
DTEND;TZID=Europe/Berlin:20190330T170000
DTSTAMP:20260424T214107
CREATED:20190118T164501Z
LAST-MODIFIED:20190127T210507Z
UID:427-1553950800-1553965200@singendelandschaft.de
SUMMARY:Bühnenpräsenz im Chor
DESCRIPTION:Im Workshop “Bühnenpräsenz im Chor” erlernen die Teilnehmer*innen\, professionell auf der Bühne zu agieren. Neben dem richtigen Einsatz von Körpersprache ist auch das Wissen über die Physiologie der Stimme von zentraler Bedeutung\, um ein Konzert sowohl für den Chor als auch für das Publikum zu einem tollen Erlebnis zu machen. Über die theoretischen Grundlagen kommen die Teilnehmer*innen in praktischen Übungen und individuellem Coaching einer authentischen Bühnenperformance näher. \n  \nWorkshopleiter: Toby Lüer \nToby Lüer begann mit 14 Jahren seine musikalische Expertise an interessierte Mitmenschen weiterzugeben. Er studierte Musikpädagogik mit den Fächern Jazzchorleitung\, -Gesang und Klavier an der HMTM Hannover\, wo er dem renommierten Jazzchor Vivid Voices beitrat. Neben vielen Engagements als Sänger und Stimmbildner gründete er den GrooveChor Hannover\, bei dem es vor allem um Groove und die Freude am Singen geht. \nhttps://tobylueer.de/index.htm \nTeilnehmer: max. 30 Personen \nKosten: 10 € | erm. 5 € (Der Teilnehmerbeitrag wird vor Ort in bar bezahlt) \nErmäßigungen gelten gegen Vorlage eines entsprechenden Ausweises für SchülerInnen\, Studierende und Auszubildende bis zum vollendeten 30. Lebensjahr sowie Arbeitslose\, Braunschweig-Pass- sowie Wolfenbüttel-Card-InhaberInnen\, Schwerbehinderte (ab 50 %) und Bundesfreiwilligendienstleistende.\nAnmeldung: per E-Mail an info@singende-landschaft.de \nBitte melden Sie sich verbindlich an und geben Sie Ihren vollständigen Namen\, Ihre Adresse und Telefonnummer an. \nÄnderungen vorbehalten! \n 
URL:http://singendelandschaft.de/event/buehnenpraesenz-fuer-choere/
LOCATION:Landesmusikakademie Wolfenbüttel\, Rhythmiksaal\, Am Seeligerpark 1\, Wolfenbüttel\, 38300
ORGANIZER;CN="Braunschweigische%20Landschaft%20e.V.":MAILTO:info@singende-landschaft.de
END:VEVENT
END:VCALENDAR