BEGIN:VCALENDAR
VERSION:2.0
PRODID:-//singendelandschaft - ECPv5.14.1//NONSGML v1.0//EN
CALSCALE:GREGORIAN
METHOD:PUBLISH
X-WR-CALNAME:singendelandschaft
X-ORIGINAL-URL:http://singendelandschaft.de
X-WR-CALDESC:Veranstaltungen für singendelandschaft
BEGIN:VTIMEZONE
TZID:Europe/Berlin
BEGIN:DAYLIGHT
TZOFFSETFROM:+0100
TZOFFSETTO:+0200
TZNAME:CEST
DTSTART:20190331T010000
END:DAYLIGHT
BEGIN:STANDARD
TZOFFSETFROM:+0200
TZOFFSETTO:+0100
TZNAME:CET
DTSTART:20191027T010000
END:STANDARD
END:VTIMEZONE
BEGIN:VEVENT
DTSTART;TZID=Europe/Berlin:20190503T150000
DTEND;TZID=Europe/Berlin:20190503T180000
DTSTAMP:20260424T220024
CREATED:20190118T165425Z
LAST-MODIFIED:20190127T210336Z
UID:434-1556895600-1556906400@singendelandschaft.de
SUMMARY:Das kleine ABC der Öffentlichkeitsarbeit – Seminarangebot für Chöre
DESCRIPTION:Diese Basis-Veranstaltung behandelt die Grundlagen von Presse- und Öffentlichkeitsarbeit sowie „Public Relations“\, die für jeden Verein\, jede Initiative und jedes Projekt von großer Bedeutung sind. \n\nWarum und wie sollten wir aktive Pressearbeit machen?\nWas muss ich berücksichtigen bei der Erstellung einer Pressemitteilung?\nWie ist die hiesige Presselandschaft aufgestellt\, und wie erreiche ich diese?\n\nDas Seminar besteht aus einer thematischen Einlassung und kleinen Übungen (z.B. gemeinsame Analyse beispielhafter Pressetexte: Was macht einen guten Pressetext aus?). Die Veranstaltung lebt durch den Austausch aller Beteiligten. Fragen und Diskussionen sind ausdrücklich erwünscht. \n  \nWorkshopleiter: Malte Schumacher \nMit mir zusammen optimieren Sie die Professionalität und die Effizienz Ihrer Gemeinwohl-orientierten Ziele und Wünsche. Grundlage meiner Arbeit für Sie sind Werte wie Empathie\, Kreativität\, Flexibilität\, Kompetenz\, Engagement\, Leidenschaft\, Aufgeschlossenheit und Dienstleistungsbewusstsein. \nhttp://www.malte-schumacher.de/ \nTeilnehmer: max. 15 Personen \nKosten: 10 € | erm. 5 € (Der Teilnehmerbeitrag wird vor Ort in bar bezahlt) \nErmäßigungen gelten gegen Vorlage eines entsprechenden Ausweises für SchülerInnen\, Studierende und Auszubildende bis zum vollendeten 30. Lebensjahr sowie Arbeitslose\, Braunschweig-Pass- sowie Wolfenbüttel-Card-InhaberInnen\, Schwerbehinderte (ab 50 %) und Bundesfreiwilligendienstleistende.\nAnmeldung: per E-Mail an info@singende-landschaft.de \nBitte melden Sie sich verbindlich an und geben Sie Ihren vollständigen Namen\, Ihre Adresse und Telefonnummer an. \nÄnderungen vorbehalten!
URL:http://singendelandschaft.de/event/das-kleine-abc-der-oeffentlichkeitsarbeit-seminarangebot-fuer-choere/
LOCATION:Bildungszentrum Wolfenbüttel\, Harzstraße 2-5\, Wolfenbüttel\, 38300
ORGANIZER;CN="Braunschweigische%20Landschaft%20in%20Kooperation%20mit%20dem%20B%C3%BCrgerKolleg%2C%20einem%20Projekt%20der%20B%C3%BCrgerstiftung%20Braunschweig":MAILTO:info@singende-landschaft.de
END:VEVENT
END:VCALENDAR