BEGIN:VCALENDAR
VERSION:2.0
PRODID:-//singendelandschaft - ECPv5.14.1//NONSGML v1.0//EN
CALSCALE:GREGORIAN
METHOD:PUBLISH
X-WR-CALNAME:singendelandschaft
X-ORIGINAL-URL:http://singendelandschaft.de
X-WR-CALDESC:Veranstaltungen für singendelandschaft
BEGIN:VTIMEZONE
TZID:UTC
BEGIN:STANDARD
TZOFFSETFROM:+0000
TZOFFSETTO:+0000
TZNAME:UTC
DTSTART:20190101T000000
END:STANDARD
END:VTIMEZONE
BEGIN:VEVENT
DTSTART;TZID=UTC:20190427T103000
DTEND;TZID=UTC:20190427T113000
DTSTAMP:20260424T220508
CREATED:20190415T154130Z
LAST-MODIFIED:20190415T154130Z
UID:713-1556361000-1556364600@singendelandschaft.de
SUMMARY:Marktplatzsingen
DESCRIPTION:Ohrwürmer\, Schlager und Volkslieder zum Mitsingen. Im Rahmen des Projektes „Singende Landschaft“ findet erneut auf dem Stadtmarkt in Wolfenbüttel ein offenes Singen statt\, zu dem alle singfreudigen Menschen eingeladen sind\, nach Herzenslust mitzusingen. Groß und Klein. Alt und Jung. Gesungen werden einfache\, einstimmige Melodien. \nMusikalische Leitung: Janusz Reszka \nJanusz Reszka besuchte die städtische Musikschule im Bydgoszcz (Polen). Er unterrichtet Klavier und Gesang in der Musikschule FIT IN music in Braunschweig und leitet den Brunsviga-Chor\, den MGV-Bettmar und den Braunschweiger Shantychor. Seine Leidenschaft ist es unter anderem auch den Amateurchören eine Brillianz und Klangfülle zu verschaffen. Die Lieder Auswahl reicht von den Beatles bis zu Bach. \nTeilnehmer: so viele wie möglich \nKosten: keine \nEine vorherige Anmeldung ist nicht erforderlich. \nÄnderungen vorbehaten!
URL:http://singendelandschaft.de/event/einfuehrung-in-social-media-2-2/
LOCATION:Stadtmarkt Wolfenbüttel\, Stadtmarkt\, Wolfenbüttel\, 38300
ORGANIZER;CN="Braunschweigische%20Landschaft%20e.V.":MAILTO:info@singende-landschaft.de
END:VEVENT
END:VCALENDAR