BEGIN:VCALENDAR
VERSION:2.0
PRODID:-//singendelandschaft - ECPv5.14.1//NONSGML v1.0//EN
CALSCALE:GREGORIAN
METHOD:PUBLISH
X-WR-CALNAME:singendelandschaft
X-ORIGINAL-URL:http://singendelandschaft.de
X-WR-CALDESC:Veranstaltungen für singendelandschaft
BEGIN:VTIMEZONE
TZID:Europe/Berlin
BEGIN:DAYLIGHT
TZOFFSETFROM:+0100
TZOFFSETTO:+0200
TZNAME:CEST
DTSTART:20190331T010000
END:DAYLIGHT
BEGIN:STANDARD
TZOFFSETFROM:+0200
TZOFFSETTO:+0100
TZNAME:CET
DTSTART:20191027T010000
END:STANDARD
END:VTIMEZONE
BEGIN:VEVENT
DTSTART;TZID=Europe/Berlin:20190430T193000
DTEND;TZID=Europe/Berlin:20190430T213000
DTSTAMP:20260424T214513
CREATED:20190329T221232Z
LAST-MODIFIED:20190415T155012Z
UID:698-1556652600-1556659800@singendelandschaft.de
SUMMARY:Ich kann nicht singen! - Projektchor für Männer
DESCRIPTION:„Ich kann nicht singen!“ \n„Kein Problem\, wir auch nicht\, aber wir haben ganz viel Spaß!“ \nZu diesem ganz besonderen Projektchor sind alle jungen und junggebliebenen Männer zwischen 20 und 65 Jahren eingeladen\, die gerne singen\, die schon immer in einer Gemeinschaft singen wollten\, ohne Zwang\, in einem Chor Mitglied zu sein. Chorerfahrung und Notenkenntnisse sind willkommen\, aber nicht erforderlich. \nUnter der Anleitung von Axel Huse werdet Ihr neue stimmliche Qualitäten beim Einstudieren bekannter Rock- und Poplieder quer durch die letzten Jahrzehnte erleben. \nInteressiert? \nProben finden jeweils dienstags um 19.30 Uhr im Gliesmaroder Thurm statt. \nEin erster Auftritt ist im Rahmen des “Tag des Singens” am 19.05.2019 nachmittags auf dem Rittergut in Lucklum geplant. \nInteressierte können jederzeit gern zum Schnuppern vorbeikommen! \nTermine: \nDienstag\, 26.03.2019\, 19:30 – 21:00 Uhr\nDienstag\, 02.04.2019\, 19:30 – 21:00 Uhr\nDienstag\, 23.04.2019\, 19:30 – 21:00 Uhr \nDienstag\, 30.04.2019\, 19:30 – 21:00 Uhr\nDienstag\, 07.05.2019\, 19:30 – 21:00 Uhr\nDienstag\, 14.05.2019\, 19:30 – 21:00 Uhr\nSonntag\, 19.05.2019 (Tag des Singens) \nMusikalische Leitung: Axel Huse \nAxel Huse studierte Lehramt mit den Fächern Musik\, Deutsch und Sport. Er ist Lehrer an der IGS Franzsches Feld in Braunschweig. Schon während seiner Schulzeit übernahm er im Kreis Peine den Organistendienst und gründete einen Kirchenchor. Heute leitet er mehrere Chöre\, darunter den Polizeichor Braunschweig. In seiner Funktion als Kreis-Chorleiter im Kreischorverband Braunschweig organisiert und leitet er seit Mitte der 1980er Jahre Konzerte und Sängerfeste im Großraum Braunschweig-Helmstedt-Wolfenbüttel-Salzgitter. Neben der Pflege der traditionellen Chormusik vermittelt und dirigiert er bekannte Songs aus den Musikrichtungen Rock\, Beat und Pop. \nTeilnehmer: max. 30 Personen \nKosten: 10 € | erm. 5 € (Der Teilnehmerbeitrag wird am ersten Probentag vor Ort in bar bezahlt) \nErmäßigungen gelten gegen Vorlage eines entsprechenden Ausweises für SchülerInnen\, Studierende und Auszubildende bis zum vollendeten 30. Lebensjahr sowie Arbeitslose\, Braunschweig-Pass- sowie Wolfenbüttel-Card-InhaberInnen\, Schwerbehinderte (ab 50 %) und Bundesfreiwilligendienstleistende.\nAnmeldung: per E-Mail an info@singende-landschaft.de \nBitte melden Sie sich verbindlich an und geben Sie Ihren vollständigen Namen\, Ihre Adresse und Telefonnummer an. \nÄnderungen vorbehalten! \n  \n  \n 
URL:http://singendelandschaft.de/event/ich-kann-nicht-singen-projektchor-fuer-maenner-2/
LOCATION:Gliesmaroder Thurm\, Berliner Straße 105\, Braunschweig\, 38104
ORGANIZER;CN="Braunschweigische%20Landschaft%20e.V.":MAILTO:info@singende-landschaft.de
END:VEVENT
END:VCALENDAR