BEGIN:VCALENDAR
VERSION:2.0
PRODID:-//singendelandschaft - ECPv5.14.1//NONSGML v1.0//EN
CALSCALE:GREGORIAN
METHOD:PUBLISH
X-WR-CALNAME:singendelandschaft
X-ORIGINAL-URL:http://singendelandschaft.de
X-WR-CALDESC:Veranstaltungen für singendelandschaft
BEGIN:VTIMEZONE
TZID:Europe/Berlin
BEGIN:DAYLIGHT
TZOFFSETFROM:+0100
TZOFFSETTO:+0200
TZNAME:CEST
DTSTART:20220327T010000
END:DAYLIGHT
BEGIN:STANDARD
TZOFFSETFROM:+0200
TZOFFSETTO:+0100
TZNAME:CET
DTSTART:20221030T010000
END:STANDARD
END:VTIMEZONE
BEGIN:VEVENT
DTSTART;TZID=Europe/Berlin:20220527T110000
DTEND;TZID=Europe/Berlin:20220527T120000
DTSTAMP:20260424T184535
CREATED:20220502T200114Z
LAST-MODIFIED:20220502T200114Z
UID:1391-1653649200-1653652800@singendelandschaft.de
SUMMARY:Marktplatzsingen
DESCRIPTION:Ohrwürmer\, Schlager\, Volkslieder zum Mitsingen. Die „Singende Landschaft“ lädt  alle singfreudigen Menschen – Jung und Alt\, Groß und Klein – die Spaß und Freude am gemeinsamen Singen haben\, zu einem Offenen Singen ein.  Gesungen werden bekannte\, einfache\, einstimmige Melodien von Folk bis Pop und Rock. \nAlso vorbeikommen\, durchatmen\, singen! \nMusikalische Leitung: Axel Huse \nKosten: Die Teilnahme ist kostenfrei. Es ist keine Anmeldung erforderlich.
URL:http://singendelandschaft.de/event/marktplatzsingen-2/
LOCATION:Wochenmarkt Salzgitter-Lebenstedt (Vorplatz Deutsche Bank)\, Chemnitzer Straße 17\, Salzgitter (Lebenstedt)\, 38226
END:VEVENT
END:VCALENDAR