BEGIN:VCALENDAR
VERSION:2.0
PRODID:-//singendelandschaft - ECPv5.14.1//NONSGML v1.0//EN
CALSCALE:GREGORIAN
METHOD:PUBLISH
X-WR-CALNAME:singendelandschaft
X-ORIGINAL-URL:http://singendelandschaft.de
X-WR-CALDESC:Veranstaltungen für singendelandschaft
BEGIN:VTIMEZONE
TZID:Europe/Berlin
BEGIN:DAYLIGHT
TZOFFSETFROM:+0100
TZOFFSETTO:+0200
TZNAME:CEST
DTSTART:20190331T010000
END:DAYLIGHT
BEGIN:STANDARD
TZOFFSETFROM:+0200
TZOFFSETTO:+0100
TZNAME:CET
DTSTART:20191027T010000
END:STANDARD
END:VTIMEZONE
BEGIN:VEVENT
DTSTART;TZID=Europe/Berlin:20190406T100000
DTEND;TZID=Europe/Berlin:20190406T123000
DTSTAMP:20260424T230443
CREATED:20190118T153629Z
LAST-MODIFIED:20190225T102337Z
UID:378-1554544800-1554553800@singendelandschaft.de
SUMMARY:Social Media für Chöre - Teil I
DESCRIPTION:Sie singen in einem Chor und wollen sich auch in den sozialen Medien Gehör verschaffen? Der Workshop „Social Media für Chöre I“ vermittelt Tipps und Tricks für einen erfolgreichen Start ins Social Web: Erfahren Sie mehr über die Philosophie und das Wesen verschiedener Social Media – Kanäle\, den Aufbau einer eigenen Fanpage und lernen Sie die wichtigsten visuellen Kommunikationsmöglichkeiten kennen. \nWorkshopleiterin: Diana Polack-Chwalczyk \nDiana Polack-Chwalczyk M.A.\, Studium der Kunstwissenschaft und Germanistik (HBK und TU Braunschweig)\, langjährige Berufserfahrung in den Bereichen Kommunikation (Schlosstheater Celle\, Kunsthochschule Kassel\, Deutsches Zentrum Kulturgutverluste) und Vermittlung (Kunstmuseum Wolfsburg\, Schloss Wolfenbüttel\, Museum für Photographie u.a.)\, Social Media Managerin (depak 2018). \nTeilnehmer: max. 15 Personen \nKosten: 10 € | erm. 5 € (Der Teilnehmerbeitrag wird vor Ort in bar bezahlt) \nErmäßigungen gelten gegen Vorlage eines entsprechenden Ausweises für SchülerInnen\, Studierende und Auszubildende bis zum vollendeten 30. Lebensjahr sowie Arbeitslose\, Braunschweig-Pass- sowie Wolfenbüttel-Card-InhaberInnen\, Schwerbehinderte (ab 50 %) und Bundesfreiwilligendienstleistende.\nAnmeldung: per E-Mail an info@singende-landschaft.de \nBitte melden Sie sich verbindlich an und geben Sie Ihren vollständigen Namen\, Ihre Adresse und Telefonnummer an. \nÄnderungen vorbehalten! \n 
URL:http://singendelandschaft.de/event/social-media-fuer-choere/
LOCATION:Volkshochschule Braunschweig\, Heydenstraße 2\, 1. Stock Raum 1.04\, Braunschweig\, Deutschland\, 38100
ORGANIZER;CN="Braunschweigische%20Landschaft%20e.V.":MAILTO:info@singende-landschaft.de
END:VEVENT
END:VCALENDAR