BEGIN:VCALENDAR
VERSION:2.0
PRODID:-//singendelandschaft - ECPv5.14.1//NONSGML v1.0//EN
CALSCALE:GREGORIAN
METHOD:PUBLISH
X-WR-CALNAME:singendelandschaft
X-ORIGINAL-URL:http://singendelandschaft.de
X-WR-CALDESC:Veranstaltungen für singendelandschaft
BEGIN:VTIMEZONE
TZID:Europe/Berlin
BEGIN:DAYLIGHT
TZOFFSETFROM:+0100
TZOFFSETTO:+0200
TZNAME:CEST
DTSTART:20220327T010000
END:DAYLIGHT
BEGIN:STANDARD
TZOFFSETFROM:+0200
TZOFFSETTO:+0100
TZNAME:CET
DTSTART:20221030T010000
END:STANDARD
END:VTIMEZONE
BEGIN:VEVENT
DTSTART;TZID=Europe/Berlin:20220619T110000
DTEND;TZID=Europe/Berlin:20220619T173000
DTSTAMP:20260424T185037
CREATED:20220619T090000Z
LAST-MODIFIED:20220616T104541Z
UID:1407-1655636400-1655659800@singendelandschaft.de
SUMMARY:Zweiter Tag des Singens
DESCRIPTION:Vorbeikommen – mitsingen – zuhören – informieren! \nNach einer umfangreichen Workshop-Phase von März bis Juni 2022 findet am 19. Juni 2022 im und um das Schloss Salder in Salzgitter ein Aktionstag rund um das Singen und die Stimme statt. \nAlle Interessierten sind herzlich eingeladen\, in verschiedenen Workshops ihre Stimme auszuprobieren\, an offenen Singen teilzunehmen\, Projektchören zuzuhören und sich über bestehende Chöre und Gesangsgruppen zu informieren. \nDie Angebote richten sich an die ganze Familie\, an jüngere und ältere Menschen\, an langjährige Chormitglieder genauso wie im Singen unerfahrene Menschen. Der Schwerpunkt liegt dieses Mal auf den Themen Körper\, Atmung und Stimme. Aber auch Workshops aus den Bereichen Gospel\, Beatboxen und Circle-Singing sind dabei. Verschiedene Offene Singen laden zum Mitsingen bekannter Melodien ein. \nAuf der Bühne im Innenhof werden die Ergebnisse einer Reihe an Projekten und Projektchören präsentiert. Kindergartenkinder aus Salzgitter haben ein Musical “Kleiner Stock ganz groß” einstudiert und werden dieses im Garten hinter dem Schloss aufführen. \nAußerdem werden die Siegerliedes des Kompositionswettbewerbs aus dem letzten Jahr uraufgeführt und für alle zum Mitsingen angeleitet. \nVereine\, Verbände und Institutionen informieren über  Fortbildungs- und Qualifizierungsmaßnahmen rund um das Singen und die Stimme und bieten Gelegenheit\, Kontakte zu knüpfen. \n  \nDer Eintritt ist frei \nAnmeldung: nicht erforderlich \nDas Programm finden Sie hier: TdS Programm (3) \nÄnderungen vorbehalten!
URL:http://singendelandschaft.de/event/zweiter-tag-des-singens/
LOCATION:Städtisches Museum Schloss Salder\, Museumstraße 34\, Salzgitter-Salder\, 38229
ORGANIZER;CN="Braunschweigische%20Landschaft%20e.V.":MAILTO:info@singende-landschaft.de
END:VEVENT
END:VCALENDAR